BEGIN:VCALENDAR
VERSION:2.0
PRODID:-//Westside Baptist Church - ECPv6.15.20//NONSGML v1.0//EN
CALSCALE:GREGORIAN
METHOD:PUBLISH
X-WR-CALNAME:Westside Baptist Church
X-ORIGINAL-URL:https://wbcamherst.com
X-WR-CALDESC:Events for Westside Baptist Church
REFRESH-INTERVAL;VALUE=DURATION:PT1H
X-Robots-Tag:noindex
X-PUBLISHED-TTL:PT1H
BEGIN:VTIMEZONE
TZID:America/New_York
BEGIN:DAYLIGHT
TZOFFSETFROM:-0500
TZOFFSETTO:-0400
TZNAME:EDT
DTSTART:20240310T070000
END:DAYLIGHT
BEGIN:STANDARD
TZOFFSETFROM:-0400
TZOFFSETTO:-0500
TZNAME:EST
DTSTART:20241103T060000
END:STANDARD
BEGIN:DAYLIGHT
TZOFFSETFROM:-0500
TZOFFSETTO:-0400
TZNAME:EDT
DTSTART:20250309T070000
END:DAYLIGHT
BEGIN:STANDARD
TZOFFSETFROM:-0400
TZOFFSETTO:-0500
TZNAME:EST
DTSTART:20251102T060000
END:STANDARD
BEGIN:DAYLIGHT
TZOFFSETFROM:-0500
TZOFFSETTO:-0400
TZNAME:EDT
DTSTART:20260308T070000
END:DAYLIGHT
BEGIN:STANDARD
TZOFFSETFROM:-0400
TZOFFSETTO:-0500
TZNAME:EST
DTSTART:20261101T060000
END:STANDARD
END:VTIMEZONE
BEGIN:VEVENT
DTSTART;TZID=America/New_York:20251123T100000
DTEND;TZID=America/New_York:20251123T100000
DTSTAMP:20260423T164536
CREATED:20251113T183740Z
LAST-MODIFIED:20251113T183740Z
UID:6643-1763892000-1763892000@wbcamherst.com
SUMMARY:Sunday School
DESCRIPTION:Sunday School Classes
URL:https://wbcamherst.com/calendar/sunday-school-49/
LOCATION:Westside Baptist Church\, 44715 Telegraph Rd\, Amherst Towhship\, 44035\, United States
END:VEVENT
BEGIN:VEVENT
DTSTART;TZID=America/New_York:20251119T190000
DTEND;TZID=America/New_York:20251119T190000
DTSTAMP:20260423T164536
CREATED:20251113T183827Z
LAST-MODIFIED:20251113T183827Z
UID:6664-1763578800-1763578800@wbcamherst.com
SUMMARY:Bible Study and Prayer
DESCRIPTION:Midweek Bible Study and Prayer with Kids for Christ program
URL:https://wbcamherst.com/calendar/bible-study-and-prayer-48/
LOCATION:Westside Baptist Church\, 44715 Telegraph Rd\, Amherst Towhship\, 44035\, United States
END:VEVENT
BEGIN:VEVENT
DTSTART;TZID=America/New_York:20251116T130000
DTEND;TZID=America/New_York:20251116T130000
DTSTAMP:20260423T164536
CREATED:20251113T183856Z
LAST-MODIFIED:20251113T184023Z
UID:6672-1763298000-1763298000@wbcamherst.com
SUMMARY:Ladies Luncheon
DESCRIPTION:
URL:https://wbcamherst.com/calendar/ladies-luncheon-2/
LOCATION:Westside Baptist Church\, 44715 Telegraph Rd\, Amherst Towhship\, 44035\, United States
END:VEVENT
BEGIN:VEVENT
DTSTART;TZID=America/New_York:20251116T110000
DTEND;TZID=America/New_York:20251116T110000
DTSTAMP:20260423T164536
CREATED:20251113T183741Z
LAST-MODIFIED:20251113T183741Z
UID:6649-1763290800-1763290800@wbcamherst.com
SUMMARY:Morning Service
DESCRIPTION:
URL:https://wbcamherst.com/calendar/morning-service-48/
LOCATION:Westside Baptist Church\, 44715 Telegraph Rd\, Amherst Towhship\, 44035\, United States
END:VEVENT
BEGIN:VEVENT
DTSTART;TZID=America/New_York:20251116T100000
DTEND;TZID=America/New_York:20251116T100000
DTSTAMP:20260423T164536
CREATED:20251113T183740Z
LAST-MODIFIED:20251113T183740Z
UID:6642-1763287200-1763287200@wbcamherst.com
SUMMARY:Sunday School
DESCRIPTION:Sunday School Classes
URL:https://wbcamherst.com/calendar/sunday-school-48/
LOCATION:Westside Baptist Church\, 44715 Telegraph Rd\, Amherst Towhship\, 44035\, United States
END:VEVENT
END:VCALENDAR